BEGIN:VCALENDAR
VERSION:2.0
PRODID:-//ChamberMaster//Event Calendar 2.0//EN
METHOD:PUBLISH
X-PUBLISHED-TTL:P3D
REFRESH-INTERVAL:P3D
CALSCALE:GREGORIAN
BEGIN:VEVENT
DTSTART:20200715T190000Z
DTEND:20200715T200000Z
X-MICROSOFT-CDO-ALLDAYEVENT:FALSE
SUMMARY:Workforce Development - Get Fit with Warlock Athletics: CrossFit Bootcamp
DESCRIPTION:Join us in getting into shape with this fun and upbeat workshop.\n\n\n\nInterested in registering? Please contact: sbleier@dcrcoc.org\n\nSponsored By: Mid-Hudson Valley Federal Credit Union
X-ALT-DESC;FMTTYPE=text/html:<div style="margin-top:0in\;margin-right:0in\;margin-bottom:0in\;margin-bottom:.0001pt\;vertical-align:baseline\;"><span style="font-size:16px\;"><span style="font-family:tahoma\;"><span style="font-size:18px\;"><span style="font-family:times new roman\;">Join us in getting&nbsp\;into shape with this fun and upbeat workshop.</span></span></span></span><br />\n<br />\n<span style="color: rgb(35\, 35\, 51)\; font-family: &quot\;times new roman&quot\;\; font-size: 18px\;">Interested in registering? Please contact:</span><span style="font-family: &quot\;times new roman&quot\;\; font-size: 18px\;"><strong><span style="color: rgb(0\, 0\, 255)\;">&nbsp\;</span></strong></span><a href="mailto:sbleier@dcrcoc.org"><span style="color: rgb(0\, 0\, 255)\;"><strong><span style="font-size: 18px\;"><span style="font-family: &quot\;times new roman&quot\;\;">sbleier@dcrcoc.org</span></span></strong></span></a></div>\n\n<div style="margin-top:0in\;margin-right:0in\;margin-bottom:0in\;margin-bottom:.0001pt\;vertical-align:baseline\;"><span style="font-family: tahoma\; font-size: 16px\; color: rgb(0\, 0\, 0)\;"><strong>Sponsored By:</strong></span><span style="font-family: tahoma\; font-size: 16px\;">&nbsp\;</span><strong style="font-family: tahoma\; font-size: 16px\;"><a href="https://www.mhvfcu.com/?gclid=EAIaIQobChMI8MLfrJS86gIVXwiICR3DzgnMEAAYASAAEgJEQfD_BwE" target="_blank"><span style="color: rgb(0\, 0\, 255)\;">Mid-Hudson Valley Federal Credit Union</span></a></strong></div>\n
LOCATION:
UID:e.2770.10484144
SEQUENCE:3
DTSTAMP:20260422T015830Z
URL:http://dutchesscountyregional.smartcms.site/events/details/workforce-development-get-fit-with-warlock-athletics-crossfit-bootcamp-10484144
END:VEVENT

END:VCALENDAR
