BEGIN:VCALENDAR
VERSION:2.0
PRODID:-//ChamberMaster//Event Calendar 2.0//EN
METHOD:PUBLISH
X-PUBLISHED-TTL:P3D
REFRESH-INTERVAL:P3D
CALSCALE:GREGORIAN
BEGIN:VEVENT
DTSTART:20200729T190000Z
DTEND:20200729T200000Z
X-MICROSOFT-CDO-ALLDAYEVENT:FALSE
SUMMARY:Workforce Development - Parenting Power Hour Class
DESCRIPTION:Parenting Power Hour Class with CPCA\n\n\n\nGoal is to help support our participants who are parents in helping them understand their child better or learn how to strengthen their parenting skills. \n\n\n\nInterested in registering? Please contact: sbleier@dcrcoc.org\n\n\n\nSponsored By: Mid-Hudson Valley Federal Credit Union
X-ALT-DESC;FMTTYPE=text/html:<div style="margin-top:0in\;margin-right:0in\;margin-bottom:0in\;margin-bottom:.0001pt\;vertical-align:baseline\;"><span style="font-size:16px\;"><span style="font-family:tahoma\;"><strong>Parenting Power Hour Class with CPCA</strong><br />\n<br />\nGoal is to help support our participants who are parents in helping them understand their child better or learn how to strengthen their parenting skills.&nbsp\;</span></span><br />\n<br />\n<span style="font-family:tahoma\;"><span style="color: rgb(35\, 35\, 51)\; font-size: 18px\;">Interested in registering? Please contact:</span><span style="font-size: 18px\;"><strong><span style="color: rgb(0\, 0\, 255)\;">&nbsp\;</span></strong></span><a href="mailto:sbleier@dcrcoc.org"><span style="color: rgb(0\, 0\, 255)\;"><strong><span style="font-size: 18px\;">sbleier@dcrcoc.org</span></strong></span></a></span><br />\n<br />\n<span style="font-family: tahoma\; font-size: 16px\; color: rgb(0\, 0\, 0)\;"><strong>Sponsored By:</strong></span><span style="font-family: tahoma\; font-size: 16px\;">&nbsp\;</span><strong style="font-family: tahoma\; font-size: 16px\;"><a href="https://www.mhvfcu.com/?gclid=EAIaIQobChMI8MLfrJS86gIVXwiICR3DzgnMEAAYASAAEgJEQfD_BwE" target="_blank"><span style="color: rgb(0\, 0\, 255)\;">Mid-Hudson Valley Federal Credit Union</span></a></strong></div>\n
LOCATION:
UID:e.2770.10484152
SEQUENCE:3
DTSTAMP:20260422T015640Z
URL:http://dutchesscountyregional.smartcms.site/events/details/workforce-development-parenting-power-hour-class-10484152
END:VEVENT

END:VCALENDAR
