BEGIN:VCALENDAR
VERSION:2.0
PRODID:-//ChamberMaster//Event Calendar 2.0//EN
METHOD:PUBLISH
X-PUBLISHED-TTL:P3D
REFRESH-INTERVAL:P3D
CALSCALE:GREGORIAN
BEGIN:VEVENT
DTSTART:20200723T210000Z
DTEND:20200723T223000Z
X-MICROSOFT-CDO-ALLDAYEVENT:FALSE
SUMMARY:Workforce Development - Summertime Cooking
DESCRIPTION:Sumertime Cooking with Audra Gerty\n\n\n\nInteractive youth focused workshops where students can engage with one another in fun activities. \n\n\n\nSponsored By: Mid-Hudson Valley Federal Credit Union
X-ALT-DESC;FMTTYPE=text/html:<span style="font-size:16px\;"><span style="font-family:tahoma\;"><strong>Sumertime Cooking with Audra Gerty</strong><br />\n<br />\nInteractive youth focused workshops where students can engage with one another in fun activities.&nbsp\;</span></span><br />\n<br />\n<span style="font-family: tahoma\; font-size: 16px\; color: rgb(0\, 0\, 0)\;"><strong>Sponsored By:</strong></span><span style="font-family: tahoma\; font-size: 16px\;">&nbsp\;</span><strong style="font-family: tahoma\; font-size: 16px\;"><a href="https://www.mhvfcu.com/?gclid=EAIaIQobChMI8MLfrJS86gIVXwiICR3DzgnMEAAYASAAEgJEQfD_BwE" target="_blank"><span style="color: rgb(0\, 0\, 255)\;">Mid-Hudson Valley Federal Credit Union</span></a></strong><br />\n<br />\n&nbsp\;
LOCATION:
UID:e.2770.10484149
SEQUENCE:3
DTSTAMP:20260422T015640Z
URL:http://dutchesscountyregional.smartcms.site/events/details/workforce-development-summertime-cooking-10484149
END:VEVENT

END:VCALENDAR
