BEGIN:VCALENDAR
VERSION:2.0
PRODID:-//ChamberMaster//Event Calendar 2.0//EN
METHOD:PUBLISH
X-PUBLISHED-TTL:P3D
REFRESH-INTERVAL:P3D
CALSCALE:GREGORIAN
BEGIN:VEVENT
DTSTART:20200716T210000Z
DTEND:20200716T223000Z
X-MICROSOFT-CDO-ALLDAYEVENT:FALSE
SUMMARY:Workforce Development - Your Voice Matters
DESCRIPTION:Sponsored By: Mid-Hudson Valley Federal Credit Union
X-ALT-DESC;FMTTYPE=text/html:<span style="font-family: tahoma\; font-size: 16px\; color: rgb(0\, 0\, 0)\;"><strong>Sponsored By:</strong></span><span style="font-family: tahoma\; font-size: 16px\;">&nbsp\;</span><strong style="font-family: tahoma\; font-size: 16px\;"><a href="https://www.mhvfcu.com/?gclid=EAIaIQobChMI8MLfrJS86gIVXwiICR3DzgnMEAAYASAAEgJEQfD_BwE" target="_blank"><span style="color: rgb(0\, 0\, 255)\;">Mid-Hudson Valley Federal Credit Union</span></a></strong>
LOCATION:
UID:e.2770.10484145
SEQUENCE:3
DTSTAMP:20260422T015741Z
URL:http://dutchesscountyregional.smartcms.site/events/details/workforce-development-your-voice-matters-10484145
END:VEVENT

END:VCALENDAR
