BEGIN:VCALENDAR
VERSION:2.0
PRODID:-//ChamberMaster//Event Calendar 2.0//EN
METHOD:PUBLISH
X-PUBLISHED-TTL:P3D
REFRESH-INTERVAL:P3D
CALSCALE:GREGORIAN
BEGIN:VEVENT
DTSTART:20210302T180000Z
DTEND:20210302T190000Z
X-MICROSOFT-CDO-ALLDAYEVENT:FALSE
SUMMARY:You are not alone: Reimagining tourism partnerships to meet the needs of 2021: Dutchess Tourism Virtual Lunch & Learn Series
DESCRIPTION:Whether it's sharing best practices or marketing opportunities\, business partnerships can be key to approaching unique challenges. Learn from Dawn Hopper\, Director of Tour & Travel at Dutchess Tourism\, how to build on existing partnerships and create new ones to have the greatest impact with customers and your tourism community.
X-ALT-DESC;FMTTYPE=text/html:Whether it&rsquo\;s sharing best practices or marketing opportunities\, business partnerships can be key to approaching unique challenges. Learn from Dawn Hopper\, Director of Tour &amp\; Travel at Dutchess Tourism\, how to build on existing partnerships and create new ones to have the greatest impact with customers and your tourism community.
LOCATION:Zoom
UID:e.2770.10484951
SEQUENCE:3
DTSTAMP:20260421T132209Z
URL:http://dutchesscountyregional.smartcms.site/events/details/you-are-not-alone-reimagining-tourism-partnerships-to-meet-the-needs-of-2021-dutchess-tourism-virtual-lunch-learn-series-10484951
END:VEVENT

END:VCALENDAR
