BEGIN:VCALENDAR
VERSION:2.0
PRODID:-//ChamberMaster//Event Calendar 2.0//EN
METHOD:PUBLISH
X-PUBLISHED-TTL:P3D
REFRESH-INTERVAL:P3D
CALSCALE:GREGORIAN
BEGIN:VEVENT
DTSTART:20201029T154500Z
DTEND:20201029T170000Z
X-MICROSOFT-CDO-ALLDAYEVENT:FALSE
SUMMARY:Your Guide to Harnessing Data for Competitive Advantage
DESCRIPTION:Our panel of industry experts will help you outclass your competition by presenting ways to organize\, interpret\, and structure data into useful information that will help you work more efficiently and increase sales. Every business   large or small   generates data. The key is identifying what data you have in your business that can then be harnessed to help you solve your key business challenges. Don't miss an opportunity to learn from our expert panel how you can differentiate your business against your competition using the data you already have. Meet Our Panel Dr. Chih-Yang Tsai\, Professor of Data Analytics\, SUNY New Paltz: Dr. Chih-Yang Tsai is currently professor of business analytics at SUNY New Paltz. He received his Ph.D. in Operations Research from the Stern School of Business\, New York University. His research interests include supply chain logistics\, linear/non-linear optimization\, and machine learning. Dr. Tsai has a wide range of consulting experience with startups\, mid-Hudson regional businesses\, and Fortune 500 companies. Before entering academia\, he worked as a production controller and a special assistant to the CEO of a multinational manufacturer. Theodore Clarke\, Professor (Ret.) of Marketing\, SUNY New Paltz: Ted Clarke is a retired college marketing professor who taught at SUNY New Paltz in the School of Business for 30 years and holds several degrees in Management and Marketing. In 2010 Professor Clark launched his own consulting company specializing in market research studies for health care and financial services organizations. Troy Del Valle\, VP of Business Intelligence\, HVCU: Troy Del Valle is Vice President of Business Intelligence at HVCU. His work focuses on data warehouse architecture\, analytical reporting\, and member profitability. Troy has led initiatives for internal process automation\, creation of a data governance counsel\, reporting and dashboard development\, as well as development of multiple machine learning projects. Before coming to Hudson Valley Federal Credit Union\, Troy was AVP of Business Intelligence at MIDFLORIDA Credit Union. While at MIDFLORIDA\, Troy managed the data warehouse\, employee incentive programs\, and implemented self-service BI. In 2011\, he received his MBA from the University of Tampa with a concentration on management information systems. David Dirks\, VP of Marketing\, HVCU: David is Vice President of Marketing for HVCU. He is the co-author of the book "The New Marketing Analytics: A CMO's Guide to Harnessing Traditional and Big Data to Drive Business Results" (2016). His latest book in this series\, "The New Sales Analytics" will be published in early 2021.
X-ALT-DESC;FMTTYPE=text/html:Our panel of industry experts will help you outclass your competition by presenting ways to organize\, interpret\, and structure data into useful information that will help you work more efficiently and increase sales. Every business &ndash\; large or small &ndash\; generates data. The key is identifying what data you have in your business that can then be harnessed to help you solve your key business challenges. Don&rsquo\;t miss an opportunity to learn from our expert panel how you can differentiate your business against your competition using the data you already have. Meet Our Panel Dr. Chih-Yang Tsai\, Professor of Data Analytics\, SUNY New Paltz: Dr. Chih-Yang Tsai is currently professor of business analytics at SUNY New Paltz. He received his Ph.D. in Operations Research from the Stern School of Business\, New York University. His research interests include supply chain logistics\, linear/non-linear optimization\, and machine learning. Dr. Tsai has a wide range of consulting experience with startups\, mid-Hudson regional businesses\, and Fortune 500 companies. Before entering academia\, he worked as a production controller and a special assistant to the CEO of a multinational manufacturer. Theodore Clarke\, Professor (Ret.) of Marketing\, SUNY New Paltz: Ted Clarke is a retired college marketing professor who taught at SUNY New Paltz in the School of Business for 30 years and holds several degrees in Management and Marketing. In 2010 Professor Clark launched his own consulting company specializing in market research studies for health care and financial services organizations. Troy Del Valle\, VP of Business Intelligence\, HVCU: Troy Del Valle is Vice President of Business Intelligence at HVCU. His work focuses on data warehouse architecture\, analytical reporting\, and member profitability. Troy has led initiatives for internal process automation\, creation of a data governance counsel\, reporting and dashboard development\, as well as development of multiple machine learning projects. Before coming to Hudson Valley Federal Credit Union\, Troy was AVP of Business Intelligence at MIDFLORIDA Credit Union. While at MIDFLORIDA\, Troy managed the data warehouse\, employee incentive programs\, and implemented self-service BI. In 2011\, he received his MBA from the University of Tampa with a concentration on management information systems. David Dirks\, VP of Marketing\, HVCU: David is Vice President of Marketing for HVCU. He is the co-author of the book &ldquo\;The New Marketing Analytics: A CMO&rsquo\;s Guide to Harnessing Traditional and Big Data to Drive Business Results&rdquo\; (2016). His latest book in this series\, &ldquo\;The New Sales Analytics&rdquo\; will be published in early 2021.
LOCATION:Zoom
UID:e.2770.10484480
SEQUENCE:3
DTSTAMP:20260421T211430Z
URL:http://dutchesscountyregional.smartcms.site/events/details/your-guide-to-harnessing-data-for-competitive-advantage-10484480
END:VEVENT

END:VCALENDAR
